BEGIN:VCALENDAR
VERSION:2.0
PRODID:-//Unionhilfswerk //NONSGML Events //EN
CALSCALE:GREGORIAN
X-WR-CALNAME:Unionhilfswerk
BEGIN:VEVENT
CREATED:20240213T084746
UID:4925
DTSTART;VALUE=DATE:20240503T180000
DTEND;VALUE=DATE:20240503T210000
DTSTAMP:20260422T084144
LOCATION:Kieke mal\, Hultschiner Damm 84 A\, 12623 Berlin
DESCRIPTION:
SUMMARY:In vino veritas
ORGANIZER:
URL;VALUE=URI:https://www.unionhilfswerk.de/ueber-uns/landesverband-berlin/termine/in-vino-veritas/
TRANSP:OPAQUE
END:VEVENT
END:VCALENDAR
