BEGIN:VCALENDAR
VERSION:2.0
PRODID:-//Unionhilfswerk //NONSGML Events //EN
CALSCALE:GREGORIAN
X-WR-CALNAME:Unionhilfswerk
BEGIN:VEVENT
CREATED:20240213T091824
UID:4932
DTSTART;VALUE=DATE:20240222T100000
DTEND;VALUE=DATE:20240222T160000
DTSTAMP:20260422T084058
LOCATION:BUFA Gelände - Studio 1\, Oberlandstraße 25 - 36\, 12099 Berlin
DESCRIPTION:
SUMMARY:Seniorenmesse im Bezirk Tempelhof-Schöneberg
ORGANIZER:
URL;VALUE=URI:https://www.unionhilfswerk.de/ueber-uns/landesverband-berlin/termine/seniorenmesse-im-bezirk-tempelhof-schoeneberg/
TRANSP:OPAQUE
END:VEVENT
END:VCALENDAR
