BEGIN:VCALENDAR
VERSION:2.0
PRODID:-//Unionhilfswerk //NONSGML Events //EN
CALSCALE:GREGORIAN
X-WR-CALNAME:Unionhilfswerk
BEGIN:VEVENT
CREATED:20240213T100337
UID:4940
DTSTART;VALUE=DATE:20240426T143000
DTEND;VALUE=DATE:20240426T160000
DTSTAMP:20260422T084114
LOCATION:Pflegewohnheim \, Martin-Hoffmann-Straße 10\, 12435 Berlin
DESCRIPTION:
SUMMARY:Kaffeetafel
ORGANIZER:
URL;VALUE=URI:https://www.unionhilfswerk.de/ueber-uns/landesverband-berlin/termine/kaffeetafel/
TRANSP:OPAQUE
END:VEVENT
END:VCALENDAR
