BEGIN:VCALENDAR
VERSION:2.0
PRODID:-//Unionhilfswerk //NONSGML Events //EN
CALSCALE:GREGORIAN
X-WR-CALNAME:Unionhilfswerk
BEGIN:VEVENT
CREATED:20240213T101132
UID:4943
DTSTART;VALUE=DATE:20240320T140000
DTEND;VALUE=DATE:20240320T160000
DTSTAMP:20260422T084106
LOCATION:Freizeitstätte Schillerpark\, Barfusstraße 22-24\, 13349 Berlin
DESCRIPTION:
SUMMARY:Jahreshauptversammlung
ORGANIZER:
URL;VALUE=URI:https://www.unionhilfswerk.de/ueber-uns/landesverband-berlin/termine/jahreshauptversammlung-3/
TRANSP:OPAQUE
END:VEVENT
END:VCALENDAR
