BEGIN:VCALENDAR
VERSION:2.0
PRODID:-//Unionhilfswerk //NONSGML Events //EN
CALSCALE:GREGORIAN
X-WR-CALNAME:Unionhilfswerk
BEGIN:VEVENT
CREATED:20240213T102301
UID:4945
DTSTART;VALUE=DATE:20240530T100000
DTEND;VALUE=DATE:20240530T120000
DTSTAMP:20260422T084106
LOCATION:\, \,  
DESCRIPTION:
SUMMARY:Tagesfahrt – Buckow
ORGANIZER:
URL;VALUE=URI:https://www.unionhilfswerk.de/ueber-uns/landesverband-berlin/termine/tagesfahrt-buckow/
TRANSP:OPAQUE
END:VEVENT
END:VCALENDAR
