BEGIN:VCALENDAR
VERSION:2.0
PRODID:-//Unionhilfswerk //NONSGML Events //EN
CALSCALE:GREGORIAN
X-WR-CALNAME:Unionhilfswerk
BEGIN:VEVENT
CREATED:20240213T104131
UID:4947
DTSTART;VALUE=DATE:20240403T143000
DTEND;VALUE=DATE:20240403T160000
DTSTAMP:20260422T084112
LOCATION:Seniorenzentrum Friedrichshain\, Singerstraße 83\, 10243 
DESCRIPTION:
SUMMARY:Bilderreise
ORGANIZER:
URL;VALUE=URI:https://www.unionhilfswerk.de/ueber-uns/landesverband-berlin/termine/bilderreise/
TRANSP:OPAQUE
END:VEVENT
END:VCALENDAR
