BEGIN:VCALENDAR
VERSION:2.0
PRODID:-//Unionhilfswerk //NONSGML Events //EN
CALSCALE:GREGORIAN
X-WR-CALNAME:Unionhilfswerk
BEGIN:VEVENT
CREATED:20240213T114737
UID:4960
DTSTART;VALUE=DATE:20240619T103000
DTEND;VALUE=DATE:20240619T123000
DTSTAMP:20260422T084106
LOCATION:\, \,  
DESCRIPTION:
SUMMARY:Tagesfahrt – Müggelspree
ORGANIZER:
URL;VALUE=URI:https://www.unionhilfswerk.de/ueber-uns/landesverband-berlin/termine/tagesfahrt-mueggelspree/
TRANSP:OPAQUE
END:VEVENT
END:VCALENDAR
