BEGIN:VCALENDAR
VERSION:2.0
PRODID:-//Unionhilfswerk //NONSGML Events //EN
CALSCALE:GREGORIAN
X-WR-CALNAME:Unionhilfswerk
BEGIN:VEVENT
CREATED:20240313T095332
UID:5046
DTSTART;VALUE=DATE:20240611T140000
DTEND;VALUE=DATE:20240611T160000
DTSTAMP:20260422T084301
LOCATION:Freizeitstätte Süd\, Teltower Damm 226\, 14167 Berlin
DESCRIPTION:
SUMMARY:Literarisches….
ORGANIZER:
URL;VALUE=URI:https://www.unionhilfswerk.de/ueber-uns/landesverband-berlin/termine/literarisches/
TRANSP:OPAQUE
END:VEVENT
END:VCALENDAR
