BEGIN:VCALENDAR
VERSION:2.0
PRODID:-//Unionhilfswerk //NONSGML Events //EN
CALSCALE:GREGORIAN
X-WR-CALNAME:Unionhilfswerk
BEGIN:VEVENT
CREATED:20240313T095512
UID:5047
DTSTART;VALUE=DATE:20241210T140000
DTEND;VALUE=DATE:20241210T160000
DTSTAMP:20260422T084259
LOCATION:Freizeitstätte Süd\, Teltower Damm 226\, 14167 Berlin
DESCRIPTION:
SUMMARY:Besinnliche Weihnachten….
ORGANIZER:
URL;VALUE=URI:https://www.unionhilfswerk.de/ueber-uns/landesverband-berlin/termine/besinnliche-weihnachten/
TRANSP:OPAQUE
END:VEVENT
END:VCALENDAR
