BEGIN:VCALENDAR
VERSION:2.0
PRODID:-//Unionhilfswerk //NONSGML Events //EN
CALSCALE:GREGORIAN
X-WR-CALNAME:Unionhilfswerk
BEGIN:VEVENT
CREATED:20240313T154105
UID:5049
DTSTART;VALUE=DATE:20240516T180000
DTEND;VALUE=DATE:20240516T190000
DTSTAMP:20260422T084300
LOCATION:digital\, \,  
DESCRIPTION:Infoveranstaltung
SUMMARY:Informationsabend für Mentor*innen der Hürdenspringer
ORGANIZER:
URL;VALUE=URI:https://www.unionhilfswerk.de/engagement/termine/informationsabend-fuer-mentorinnen-der-huerdenspringer/
TRANSP:OPAQUE
END:VEVENT
END:VCALENDAR
