BEGIN:VCALENDAR
VERSION:2.0
PRODID:-//Unionhilfswerk //NONSGML Events //EN
CALSCALE:GREGORIAN
X-WR-CALNAME:Unionhilfswerk
BEGIN:VEVENT
CREATED:20240320T093214
UID:5069
DTSTART;VALUE=DATE:20240504T110000
DTEND;VALUE=DATE:20240504T170000
DTSTAMP:20260422T084323
LOCATION:Rotes Rathaus\, Rathausstraße 15\, 10178 Berlin
DESCRIPTION:Infoveranstaltung
SUMMARY:17. Berliner Freiwilligenbörse
ORGANIZER:
URL;VALUE=URI:https://www.unionhilfswerk.de/engagement/termine/17-berliner-freiwilligenboerse/
TRANSP:OPAQUE
END:VEVENT
END:VCALENDAR
