BEGIN:VCALENDAR
VERSION:2.0
PRODID:-//Unionhilfswerk //NONSGML Events //EN
CALSCALE:GREGORIAN
X-WR-CALNAME:Unionhilfswerk
BEGIN:VEVENT
CREATED:20240320T094808
UID:5070
DTSTART;VALUE=DATE:20241113T100000
DTEND;VALUE=DATE:20241113T170000
DTSTAMP:20260423T082153
LOCATION:PopUp der Amerika-Gedenk-Bibliothek\, Blücherplatz 1\, 10961 Berlin
DESCRIPTION:Infoveranstaltung\r\nVeranstalter: Landesnetzwerk Bürgerengagement Berlin. Das Unionhilfswerk ist Unterstützer und Mitwirkende.
SUMMARY:2. Berliner Engagementkonferenz
ORGANIZER:
URL;VALUE=URI:https://www.unionhilfswerk.de/engagement/termine/2-berliner-engagementkonferenz/
TRANSP:OPAQUE
END:VEVENT
END:VCALENDAR
