BEGIN:VCALENDAR
VERSION:2.0
PRODID:-//Unionhilfswerk //NONSGML Events //EN
CALSCALE:GREGORIAN
X-WR-CALNAME:Unionhilfswerk
BEGIN:VEVENT
CREATED:20240405T103630
UID:5105
DTSTART;VALUE=DATE:20240911T140000
DTEND;VALUE=DATE:20240911T160000
DTSTAMP:20260422T084016
LOCATION:Freizeitstätte Schillerpark\, Barfusstraße 22-24\, 13349 Berlin
DESCRIPTION:
SUMMARY:Geburtstagsrunde
ORGANIZER:
URL;VALUE=URI:https://www.unionhilfswerk.de/ueber-uns/landesverband-berlin/termine/geburtstagsrunde/
TRANSP:OPAQUE
END:VEVENT
END:VCALENDAR
