BEGIN:VCALENDAR
VERSION:2.0
PRODID:-//Unionhilfswerk //NONSGML Events //EN
CALSCALE:GREGORIAN
X-WR-CALNAME:Unionhilfswerk
BEGIN:VEVENT
CREATED:20240405T110754
UID:5112
DTSTART;VALUE=DATE:20240927T143000
DTEND;VALUE=DATE:20240927T160000
DTSTAMP:20260423T082221
LOCATION:Pflegewohnheim Martin-Hoffmann-Straße\, Martin-Hoffmann-Straße 10\, 12435 Berlin
DESCRIPTION:
SUMMARY:Kaffeetafel
ORGANIZER:
URL;VALUE=URI:https://www.unionhilfswerk.de/ueber-uns/landesverband-berlin/termine/kaffeetafel-6/
TRANSP:OPAQUE
END:VEVENT
END:VCALENDAR
