BEGIN:VCALENDAR
VERSION:2.0
PRODID:-//Unionhilfswerk //NONSGML Events //EN
CALSCALE:GREGORIAN
X-WR-CALNAME:Unionhilfswerk
BEGIN:VEVENT
CREATED:20240405T114803
UID:5113
DTSTART;VALUE=DATE:20240725T150000
DTEND;VALUE=DATE:20240725T160000
DTSTAMP:20260422T084056
LOCATION:Pflegewohnheim Martin-Hoffmann-Straße\, Martin-Hoffmann-Straße 10\, 12435 Berlin
DESCRIPTION:
SUMMARY:Literaturstunde
ORGANIZER:
URL;VALUE=URI:https://www.unionhilfswerk.de/ueber-uns/landesverband-berlin/termine/literaturstunde/
TRANSP:OPAQUE
END:VEVENT
END:VCALENDAR
