BEGIN:VCALENDAR
VERSION:2.0
PRODID:-//Unionhilfswerk //NONSGML Events //EN
CALSCALE:GREGORIAN
X-WR-CALNAME:Unionhilfswerk
BEGIN:VEVENT
CREATED:20240408T125040
UID:5125
DTSTART;VALUE=DATE:20240716T140000
DTEND;VALUE=DATE:20240716T160000
DTSTAMP:20260422T084300
LOCATION:Seniorenbegegnungsstätte Friedrichshain\, Singerstraße 83\, 10243 Berlin
DESCRIPTION:BINGO\r\nKarin Engelke-Beck
SUMMARY:BINGO – Ein spannendes Spiel
ORGANIZER:
URL;VALUE=URI:https://www.unionhilfswerk.de/ueber-uns/landesverband-berlin/termine/bingo-ein-spannendes-spiel/
TRANSP:OPAQUE
END:VEVENT
END:VCALENDAR
