BEGIN:VCALENDAR
VERSION:2.0
PRODID:-//Unionhilfswerk //NONSGML Events //EN
CALSCALE:GREGORIAN
X-WR-CALNAME:Unionhilfswerk
BEGIN:VEVENT
CREATED:20240408T125522
UID:5127
DTSTART;VALUE=DATE:20240731T143000
DTEND;VALUE=DATE:20240731T160000
DTSTAMP:20260422T084229
LOCATION:Seniorenbegegnungsstätte Friedrichshain\, Singerstraße 83\, 10243 Berlin
DESCRIPTION:
SUMMARY:Picknick im Friedrichshain
ORGANIZER:
URL;VALUE=URI:https://www.unionhilfswerk.de/ueber-uns/landesverband-berlin/termine/picknick-im-friedrichshain/
TRANSP:OPAQUE
END:VEVENT
END:VCALENDAR
