BEGIN:VCALENDAR
VERSION:2.0
PRODID:-//Unionhilfswerk //NONSGML Events //EN
CALSCALE:GREGORIAN
X-WR-CALNAME:Unionhilfswerk
BEGIN:VEVENT
CREATED:20240408T130435
UID:5130
DTSTART;VALUE=DATE:20240911T140000
DTEND;VALUE=DATE:20240911T160000
DTSTAMP:20260423T082154
LOCATION:Seniorenbegegnungsstätte Friedrichshain\, Singerstraße 83\, 10243 Berlin
DESCRIPTION:
SUMMARY:Fest der Generationen
ORGANIZER:
URL;VALUE=URI:https://www.unionhilfswerk.de/ueber-uns/landesverband-berlin/termine/fest-der-generationen/
TRANSP:OPAQUE
END:VEVENT
END:VCALENDAR
