BEGIN:VCALENDAR
VERSION:2.0
PRODID:-//Unionhilfswerk //NONSGML Events //EN
CALSCALE:GREGORIAN
X-WR-CALNAME:Unionhilfswerk
BEGIN:VEVENT
CREATED:20240408T130856
UID:5132
DTSTART;VALUE=DATE:20240925T140000
DTEND;VALUE=DATE:20240925T160000
DTSTAMP:20260423T083109
LOCATION:Seniorenbegegnungsstätte Friedrichshain\, Singerstraße 83\, 10243 Berlin
DESCRIPTION:
SUMMARY:Wenn einer eine Reise tut ….
ORGANIZER:
URL;VALUE=URI:https://www.unionhilfswerk.de/ueber-uns/landesverband-berlin/termine/wenn-einer-eine-reise-tut/
TRANSP:OPAQUE
END:VEVENT
END:VCALENDAR
