BEGIN:VCALENDAR
VERSION:2.0
PRODID:-//Unionhilfswerk //NONSGML Events //EN
CALSCALE:GREGORIAN
X-WR-CALNAME:Unionhilfswerk
BEGIN:VEVENT
CREATED:20240408T132405
UID:5136
DTSTART;VALUE=DATE:20240907T133000
DTEND;VALUE=DATE:20240907T163000
DTSTAMP:20260423T082222
LOCATION:Seniorenfreizeitstätte Böhmisches Dorf\, Richardstraße 78\, 12043 Berlin
DESCRIPTION:
SUMMARY:Modenschau
ORGANIZER:
URL;VALUE=URI:https://www.unionhilfswerk.de/ueber-uns/landesverband-berlin/termine/modenschau-2/
TRANSP:OPAQUE
END:VEVENT
END:VCALENDAR
