BEGIN:VCALENDAR
VERSION:2.0
PRODID:-//Unionhilfswerk //NONSGML Events //EN
CALSCALE:GREGORIAN
X-WR-CALNAME:Unionhilfswerk
BEGIN:VEVENT
CREATED:20240408T134242
UID:5141
DTSTART;VALUE=DATE:20240801T103000
DTEND;VALUE=DATE:20240801T123000
DTSTAMP:20260423T083300
LOCATION:\, \,  
DESCRIPTION:
SUMMARY:Tagesfahrt – Teupitz
ORGANIZER:
URL;VALUE=URI:https://www.unionhilfswerk.de/ueber-uns/landesverband-berlin/termine/tagesfahrt-teupitz/
TRANSP:OPAQUE
END:VEVENT
END:VCALENDAR
