BEGIN:VCALENDAR
VERSION:2.0
PRODID:-//Unionhilfswerk //NONSGML Events //EN
CALSCALE:GREGORIAN
X-WR-CALNAME:Unionhilfswerk
BEGIN:VEVENT
CREATED:20240408T134909
UID:5144
DTSTART;VALUE=DATE:20240919T140000
DTEND;VALUE=DATE:20240919T160000
DTSTAMP:20260422T084112
LOCATION:\, \,  
DESCRIPTION:
SUMMARY:Galakonzert „Luciano“
ORGANIZER:
URL;VALUE=URI:https://www.unionhilfswerk.de/ueber-uns/landesverband-berlin/termine/galakonzert-luciano/
TRANSP:OPAQUE
END:VEVENT
END:VCALENDAR
