BEGIN:VCALENDAR
VERSION:2.0
PRODID:-//Unionhilfswerk //NONSGML Events //EN
CALSCALE:GREGORIAN
X-WR-CALNAME:Unionhilfswerk
BEGIN:VEVENT
CREATED:20240411T120620
UID:5175
DTSTART;VALUE=DATE:20240723T150000
DTEND;VALUE=DATE:20240723T180000
DTSTAMP:20260422T084114
LOCATION:Kieztreff Kiekemal\, Hultschiner Damm 84 A\, 12623 Berlin
DESCRIPTION:
SUMMARY:Handarbeitszirkel
ORGANIZER:
URL;VALUE=URI:https://www.unionhilfswerk.de/ueber-uns/landesverband-berlin/termine/handarbeitszirkel-2/
TRANSP:OPAQUE
END:VEVENT
END:VCALENDAR
