BEGIN:VCALENDAR
VERSION:2.0
PRODID:-//Unionhilfswerk //NONSGML Events //EN
CALSCALE:GREGORIAN
X-WR-CALNAME:Unionhilfswerk
BEGIN:VEVENT
CREATED:20240411T120927
UID:5180
DTSTART;VALUE=DATE:20240813T150000
DTEND;VALUE=DATE:20240813T180000
DTSTAMP:20260422T084300
LOCATION:Kieztreff Kiekemal\, Hultschiner Damm 84 A\, 12623 Berlin
DESCRIPTION:
SUMMARY:Handarbeitszirkel
ORGANIZER:
URL;VALUE=URI:https://www.unionhilfswerk.de/ueber-uns/landesverband-berlin/termine/handarbeitszirkel-3/
TRANSP:OPAQUE
END:VEVENT
END:VCALENDAR
