BEGIN:VCALENDAR
VERSION:2.0
PRODID:-//Unionhilfswerk //NONSGML Events //EN
CALSCALE:GREGORIAN
X-WR-CALNAME:Unionhilfswerk
BEGIN:VEVENT
CREATED:20240415T155248
UID:5196
DTSTART;VALUE=DATE:20240815T150000
DTEND;VALUE=DATE:20240815T170000
DTSTAMP:20260423T083122
LOCATION:Pflegewohnheim Am Plänterwald\, Neue Krugallee 142\, 12437 Berlin
DESCRIPTION:
SUMMARY:Lesung und Gespräche
ORGANIZER:
URL;VALUE=URI:https://www.unionhilfswerk.de/ueber-uns/landesverband-berlin/termine/lesung-und-gespraeche-2/
TRANSP:OPAQUE
END:VEVENT
END:VCALENDAR
