BEGIN:VCALENDAR
VERSION:2.0
PRODID:-//Unionhilfswerk //NONSGML Events //EN
CALSCALE:GREGORIAN
X-WR-CALNAME:Unionhilfswerk
BEGIN:VEVENT
CREATED:20240415T155339
UID:5197
DTSTART;VALUE=DATE:20240919T150000
DTEND;VALUE=DATE:20240919T170000
DTSTAMP:20260422T084216
LOCATION:Pflegewohnheim Am Plänterwald\, Neue Krugallee 142\, 12437 Berlin
DESCRIPTION:
SUMMARY:Lesung und Gespräche
ORGANIZER:
URL;VALUE=URI:https://www.unionhilfswerk.de/ueber-uns/landesverband-berlin/termine/lesung-und-gespraeche-3/
TRANSP:OPAQUE
END:VEVENT
END:VCALENDAR
