BEGIN:VCALENDAR
VERSION:2.0
PRODID:-//Unionhilfswerk //NONSGML Events //EN
CALSCALE:GREGORIAN
X-WR-CALNAME:Unionhilfswerk
BEGIN:VEVENT
CREATED:20240415T194349
UID:5210
DTSTART;VALUE=DATE:20240814T103000
DTEND;VALUE=DATE:20240814T123000
DTSTAMP:20260422T084215
LOCATION:\, \,  
DESCRIPTION:
SUMMARY:Restaurant Wildpark am Mellensee
ORGANIZER:
URL;VALUE=URI:https://www.unionhilfswerk.de/ueber-uns/landesverband-berlin/termine/restaurant-wildpark-am-mellensee/
TRANSP:OPAQUE
END:VEVENT
END:VCALENDAR
