BEGIN:VCALENDAR
VERSION:2.0
PRODID:-//Unionhilfswerk //NONSGML Events //EN
CALSCALE:GREGORIAN
X-WR-CALNAME:Unionhilfswerk
BEGIN:VEVENT
CREATED:20240415T194614
UID:5211
DTSTART;VALUE=DATE:20240925T103000
DTEND;VALUE=DATE:20240925T123000
DTSTAMP:20260423T082058
LOCATION:\, \,  
DESCRIPTION:
SUMMARY:Hotel und Restaurant Beetzsee-Terrassen bei Brandenburg/ Havel
ORGANIZER:
URL;VALUE=URI:https://www.unionhilfswerk.de/ueber-uns/landesverband-berlin/termine/hotel-restaurant-beetzsee-terrassen-bei-brandenburg-havel/
TRANSP:OPAQUE
END:VEVENT
END:VCALENDAR
