BEGIN:VCALENDAR
VERSION:2.0
PRODID:-//Unionhilfswerk //NONSGML Events //EN
CALSCALE:GREGORIAN
X-WR-CALNAME:Unionhilfswerk
BEGIN:VEVENT
CREATED:20240503T110439
UID:5314
DTSTART;VALUE=DATE:20240514T110000
DTEND;VALUE=DATE:20240514T130000
DTSTAMP:20260422T084146
LOCATION:\, \,  
DESCRIPTION:
SUMMARY:Besuch des Showroom „Pflege 4.0“
ORGANIZER:
URL;VALUE=URI:https://www.unionhilfswerk.de/ueber-uns/landesverband-berlin/termine/besuch-des-showroom-pflege-4-0/
TRANSP:OPAQUE
END:VEVENT
END:VCALENDAR
