BEGIN:VCALENDAR
VERSION:2.0
PRODID:-//Unionhilfswerk //NONSGML Events //EN
CALSCALE:GREGORIAN
X-WR-CALNAME:Unionhilfswerk
BEGIN:VEVENT
CREATED:20240605T141617
UID:5453
DTSTART;VALUE=DATE:20240612T160000
DTEND;VALUE=DATE:20240612T173000
DTSTAMP:20260422T084112
LOCATION:Ev. Kirchengemeinde Frohnau (1. OG\, Vorraum rechts in der Kirche)\, Zeltinger Platz 8\, 13465  Berlin
DESCRIPTION:Infoveranstaltung\r\nMit Irina Neicke,  Pflegestützpunkt Reinickendorf
SUMMARY:Pflegebedürftig – was ist zu tun?
ORGANIZER:
URL;VALUE=URI:https://www.unionhilfswerk.de/engagement/termine/pflegebeduerftig-was-ist-zu-tun/
TRANSP:OPAQUE
END:VEVENT
END:VCALENDAR
