BEGIN:VCALENDAR
VERSION:2.0
PRODID:-//Unionhilfswerk //NONSGML Events //EN
CALSCALE:GREGORIAN
X-WR-CALNAME:Unionhilfswerk
BEGIN:VEVENT
CREATED:20240701T093204
UID:5606
DTSTART;VALUE=DATE:20240910T160000
DTEND;VALUE=DATE:20240910T190000
DTSTAMP:20260422T084214
LOCATION:Unionhilfswerk Dienstleistungs.Campus\, Schwiebusser Straße 18\, 10965 Berlin
DESCRIPTION:
SUMMARY:Fortbildung Umgang mit dem Rollstuhl
ORGANIZER:
URL;VALUE=URI:https://www.unionhilfswerk.de/ueber-uns/landesverband-berlin/interessengemeinschaften/termine/fortbildung-umgang-mit-dem-rollstuhl/
TRANSP:OPAQUE
END:VEVENT
END:VCALENDAR
