BEGIN:VCALENDAR
VERSION:2.0
PRODID:-//Unionhilfswerk //NONSGML Events //EN
CALSCALE:GREGORIAN
X-WR-CALNAME:Unionhilfswerk
BEGIN:VEVENT
CREATED:20240701T094739
UID:5609
DTSTART;VALUE=DATE:20241015T150000
DTEND;VALUE=DATE:20241015T180000
DTSTAMP:20260422T084057
LOCATION:F1  - Stadtteilzentrum im Kiez\, Friedrichstraße 1\, 10969 Berlin
DESCRIPTION:
SUMMARY:Fortbildung….
ORGANIZER:
URL;VALUE=URI:https://www.unionhilfswerk.de/ueber-uns/landesverband-berlin/interessengemeinschaften/termine/fortbildung-2/
TRANSP:OPAQUE
END:VEVENT
END:VCALENDAR
