BEGIN:VCALENDAR
VERSION:2.0
PRODID:-//Unionhilfswerk //NONSGML Events //EN
CALSCALE:GREGORIAN
X-WR-CALNAME:Unionhilfswerk
BEGIN:VEVENT
CREATED:20240701T095027
UID:5610
DTSTART;VALUE=DATE:20241022T150000
DTEND;VALUE=DATE:20241022T180000
DTSTAMP:20260423T082100
LOCATION:Unionhilfswerk Dienstleistungs.Campus\, Schwiebusser Straße 18\, 10965 Berlin
DESCRIPTION:
SUMMARY:Fortbildung ….
ORGANIZER:
URL;VALUE=URI:https://www.unionhilfswerk.de/ueber-uns/landesverband-berlin/interessengemeinschaften/termine/fortbildung-3/
TRANSP:OPAQUE
END:VEVENT
END:VCALENDAR
