BEGIN:VCALENDAR
VERSION:2.0
PRODID:-//Unionhilfswerk //NONSGML Events //EN
CALSCALE:GREGORIAN
X-WR-CALNAME:Unionhilfswerk
BEGIN:VEVENT
CREATED:20240701T095611
UID:5612
DTSTART;VALUE=DATE:20241106T170000
DTEND;VALUE=DATE:20241106T183000
DTSTAMP:20260422T084145
LOCATION:Unionhilfswerk Dienstleistungs.Campus\, Schwiebusser Straße 18\, 10965 Berlin
DESCRIPTION:
SUMMARY:Training Deeskalation –
ORGANIZER:
URL;VALUE=URI:https://www.unionhilfswerk.de/ueber-uns/landesverband-berlin/interessengemeinschaften/termine/training-deeskalation-2/
TRANSP:OPAQUE
END:VEVENT
END:VCALENDAR
