BEGIN:VCALENDAR
VERSION:2.0
PRODID:-//Unionhilfswerk //NONSGML Events //EN
CALSCALE:GREGORIAN
X-WR-CALNAME:Unionhilfswerk
BEGIN:VEVENT
CREATED:20240701T095954
UID:5613
DTSTART;VALUE=DATE:20241113T000000
DTEND;VALUE=DATE:20241113T020000
DTSTAMP:20260422T084143
LOCATION:PopUp der Amerika-Gedenkbibliothek\, Blücherplatz 1\, 10961 Berlin
DESCRIPTION:
SUMMARY:2. Berliner Engagementkonferenz
ORGANIZER:
URL;VALUE=URI:https://www.unionhilfswerk.de/ueber-uns/landesverband-berlin/interessengemeinschaften/termine/2-berliner-engagementkonferenz/
TRANSP:OPAQUE
END:VEVENT
END:VCALENDAR
