BEGIN:VCALENDAR
VERSION:2.0
PRODID:-//Unionhilfswerk //NONSGML Events //EN
CALSCALE:GREGORIAN
X-WR-CALNAME:Unionhilfswerk
BEGIN:VEVENT
CREATED:20240701T135324
UID:5617
DTSTART;VALUE=DATE:20240730T173000
DTEND;VALUE=DATE:20240730T193000
DTSTAMP:20260422T084114
LOCATION:Charlottenburg/ Nähe Messe Nord/ ICC\, \,  
DESCRIPTION:
SUMMARY:Treffen der IG Förderung junger Menschen
ORGANIZER:
URL;VALUE=URI:https://www.unionhilfswerk.de/ueber-uns/landesverband-berlin/interessengemeinschaften/termine/treffen-der-ig-foerderung-junger-menschen/
TRANSP:OPAQUE
END:VEVENT
END:VCALENDAR
