BEGIN:VCALENDAR
VERSION:2.0
PRODID:-//Unionhilfswerk //NONSGML Events //EN
CALSCALE:GREGORIAN
X-WR-CALNAME:Unionhilfswerk
BEGIN:VEVENT
CREATED:20240708T083830
UID:5658
DTSTART;VALUE=DATE:20240925T180000
DTEND;VALUE=DATE:20240925T200000
DTSTAMP:20260422T084214
LOCATION:Unionhilfswerk Dienstleistungs.Campus\, Schwiebusser Str. 18\, 10965 Berlin
DESCRIPTION:Mitmachaktion\r\nMit Dieter Bednarz
SUMMARY:Lesung „Zu jung für alt“
ORGANIZER:
URL;VALUE=URI:https://www.unionhilfswerk.de/engagement/termine/lesung-zu-jung-fuer-alt/
TRANSP:OPAQUE
END:VEVENT
END:VCALENDAR
