BEGIN:VCALENDAR
VERSION:2.0
PRODID:-//Unionhilfswerk //NONSGML Events //EN
CALSCALE:GREGORIAN
X-WR-CALNAME:Unionhilfswerk
BEGIN:VEVENT
CREATED:20240712T095908
UID:5671
DTSTART;VALUE=DATE:20241009T130000
DTEND;VALUE=DATE:20241009T160000
DTSTAMP:20260422T084107
LOCATION:\, \,  
DESCRIPTION:
SUMMARY:Spätsommer-Bummel
ORGANIZER:
URL;VALUE=URI:https://www.unionhilfswerk.de/ueber-uns/landesverband-berlin/termine/spaetsommer-bummel/
TRANSP:OPAQUE
END:VEVENT
END:VCALENDAR
