BEGIN:VCALENDAR
VERSION:2.0
PRODID:-//Unionhilfswerk //NONSGML Events //EN
CALSCALE:GREGORIAN
X-WR-CALNAME:Unionhilfswerk
BEGIN:VEVENT
CREATED:20240716T135835
UID:5690
DTSTART;VALUE=DATE:20241026T140000
DTEND;VALUE=DATE:20241026T160000
DTSTAMP:20260422T084230
LOCATION:DRK Haus am Lietzensee\, Herbartstraße 25\, 14057 Berlin
DESCRIPTION:
SUMMARY:Die Herbartstraße lädt ein ….
ORGANIZER:
URL;VALUE=URI:https://www.unionhilfswerk.de/ueber-uns/landesverband-berlin/termine/die-herbartstrasse-laedt-ein/
TRANSP:OPAQUE
END:VEVENT
END:VCALENDAR
