BEGIN:VCALENDAR
VERSION:2.0
PRODID:-//Unionhilfswerk //NONSGML Events //EN
CALSCALE:GREGORIAN
X-WR-CALNAME:Unionhilfswerk
BEGIN:VEVENT
CREATED:20240716T140213
UID:5691
DTSTART;VALUE=DATE:20241109T120000
DTEND;VALUE=DATE:20241109T140000
DTSTAMP:20260422T084113
LOCATION:Seniorenfreizeitstätte\, Herthastraße 25 A\, 14193 Berlin
DESCRIPTION:
SUMMARY:Mit Hans Neumann um die Welt …..
ORGANIZER:
URL;VALUE=URI:https://www.unionhilfswerk.de/ueber-uns/landesverband-berlin/termine/mit-hans-neumann-um-die-welt/
TRANSP:OPAQUE
END:VEVENT
END:VCALENDAR
