BEGIN:VCALENDAR
VERSION:2.0
PRODID:-//Unionhilfswerk //NONSGML Events //EN
CALSCALE:GREGORIAN
X-WR-CALNAME:Unionhilfswerk
BEGIN:VEVENT
CREATED:20240716T140945
UID:5693
DTSTART;VALUE=DATE:20241207T123000
DTEND;VALUE=DATE:20241207T143000
DTSTAMP:20260422T084323
LOCATION:Allianz Casino Mariendorf\, Wildspitzweg 12 - 46\, 12107 Berlin
DESCRIPTION:
SUMMARY:Oh, du fröhliche….
ORGANIZER:
URL;VALUE=URI:https://www.unionhilfswerk.de/ueber-uns/landesverband-berlin/termine/oh-du-froehliche/
TRANSP:OPAQUE
END:VEVENT
END:VCALENDAR
