BEGIN:VCALENDAR
VERSION:2.0
PRODID:-//Unionhilfswerk //NONSGML Events //EN
CALSCALE:GREGORIAN
X-WR-CALNAME:Unionhilfswerk
BEGIN:VEVENT
CREATED:20240716T142715
UID:5698
DTSTART;VALUE=DATE:20250208T110000
DTEND;VALUE=DATE:20250208T130000
DTSTAMP:20260422T084058
LOCATION:Seniorenfreizeitstätte\, Herthastraße 25 A\, 14193 Berlin
DESCRIPTION:
SUMMARY:Eine Reise mit ….
ORGANIZER:
URL;VALUE=URI:https://www.unionhilfswerk.de/ueber-uns/landesverband-berlin/termine/eine-reise-mit/
TRANSP:OPAQUE
END:VEVENT
END:VCALENDAR
