BEGIN:VCALENDAR
VERSION:2.0
PRODID:-//Unionhilfswerk //NONSGML Events //EN
CALSCALE:GREGORIAN
X-WR-CALNAME:Unionhilfswerk
BEGIN:VEVENT
CREATED:20240716T143440
UID:5699
DTSTART;VALUE=DATE:20241104T200000
DTEND;VALUE=DATE:20241104T220000
DTSTAMP:20260423T084034
LOCATION:Schlossparktheater\, Schlossstraße 48\, 12165 Berlin
DESCRIPTION:
SUMMARY:Theater und Kultur
ORGANIZER:
URL;VALUE=URI:https://www.unionhilfswerk.de/ueber-uns/landesverband-berlin/termine/theater-und-kultur/
TRANSP:OPAQUE
END:VEVENT
END:VCALENDAR
