BEGIN:VCALENDAR
VERSION:2.0
PRODID:-//Unionhilfswerk //NONSGML Events //EN
CALSCALE:GREGORIAN
X-WR-CALNAME:Unionhilfswerk
BEGIN:VEVENT
CREATED:20240717T093850
UID:5711
DTSTART;VALUE=DATE:20241130T133000
DTEND;VALUE=DATE:20241130T163000
DTSTAMP:20260423T084220
LOCATION:Seniorenfreizeitstätte Böhmisches Dorf\, Richardstraße 78\, 12043 Berlin
DESCRIPTION:
SUMMARY:Advent, Advent …
ORGANIZER:
URL;VALUE=URI:https://www.unionhilfswerk.de/ueber-uns/landesverband-berlin/termine/advent-advent/
TRANSP:OPAQUE
END:VEVENT
END:VCALENDAR
