BEGIN:VCALENDAR
VERSION:2.0
PRODID:-//Unionhilfswerk //NONSGML Events //EN
CALSCALE:GREGORIAN
X-WR-CALNAME:Unionhilfswerk
BEGIN:VEVENT
CREATED:20240717T094330
UID:5714
DTSTART;VALUE=DATE:20241207T000000
DTEND;VALUE=DATE:20241207T020000
DTSTAMP:20260422T084143
LOCATION:\, \,  
DESCRIPTION:
SUMMARY:Nikolausfahrt ….
ORGANIZER:
URL;VALUE=URI:https://www.unionhilfswerk.de/ueber-uns/landesverband-berlin/termine/nikolausfahrt/
TRANSP:OPAQUE
END:VEVENT
END:VCALENDAR
