BEGIN:VCALENDAR
VERSION:2.0
PRODID:-//Unionhilfswerk //NONSGML Events //EN
CALSCALE:GREGORIAN
X-WR-CALNAME:Unionhilfswerk
BEGIN:VEVENT
CREATED:20240717T101327
UID:5717
DTSTART;VALUE=DATE:20241102T100000
DTEND;VALUE=DATE:20241102T120000
DTSTAMP:20260422T084301
LOCATION:Kieztreff Kiekemal\, Hultschiner Damm 84 A\, 12623 Berlin
DESCRIPTION:
SUMMARY:Skatturnier
ORGANIZER:
URL;VALUE=URI:https://www.unionhilfswerk.de/ueber-uns/landesverband-berlin/termine/skatturnier-5/
TRANSP:OPAQUE
END:VEVENT
END:VCALENDAR
