BEGIN:VCALENDAR
VERSION:2.0
PRODID:-//Unionhilfswerk //NONSGML Events //EN
CALSCALE:GREGORIAN
X-WR-CALNAME:Unionhilfswerk
BEGIN:VEVENT
CREATED:20240717T101940
UID:5724
DTSTART;VALUE=DATE:20241113T143000
DTEND;VALUE=DATE:20241113T160000
DTSTAMP:20260422T084229
LOCATION:Kieztreff Kiekemal\, Hultschiner Damm 84 A\, 12623 Berlin
DESCRIPTION:
SUMMARY:Singekreis
ORGANIZER:
URL;VALUE=URI:https://www.unionhilfswerk.de/ueber-uns/landesverband-berlin/termine/singekreis-9-4/
TRANSP:OPAQUE
END:VEVENT
END:VCALENDAR
