BEGIN:VCALENDAR
VERSION:2.0
PRODID:-//Unionhilfswerk //NONSGML Events //EN
CALSCALE:GREGORIAN
X-WR-CALNAME:Unionhilfswerk
BEGIN:VEVENT
CREATED:20240717T102746
UID:5730
DTSTART;VALUE=DATE:20241202T170000
DTEND;VALUE=DATE:20241202T190000
DTSTAMP:20260422T084113
LOCATION:Kieztreff Kiekemal\, Hultschiner Damm 84 A\, 12623 Berlin
DESCRIPTION:
SUMMARY:Rechtsberatung …
ORGANIZER:
URL;VALUE=URI:https://www.unionhilfswerk.de/ueber-uns/landesverband-berlin/termine/rechtsberatung-4-3/
TRANSP:OPAQUE
END:VEVENT
END:VCALENDAR
