BEGIN:VCALENDAR
VERSION:2.0
PRODID:-//Unionhilfswerk //NONSGML Events //EN
CALSCALE:GREGORIAN
X-WR-CALNAME:Unionhilfswerk
BEGIN:VEVENT
CREATED:20240717T103318
UID:5732
DTSTART;VALUE=DATE:20241015T110000
DTEND;VALUE=DATE:20241015T130000
DTSTAMP:20260423T083138
LOCATION:Kieztreff Kiekemal\, Hultschiner Damm 84 A\, 12623 Berlin
DESCRIPTION:
SUMMARY:Patientenverfügungsberatung
ORGANIZER:
URL;VALUE=URI:https://www.unionhilfswerk.de/ueber-uns/landesverband-berlin/termine/patientenverfuegungsberatung-4/
TRANSP:OPAQUE
END:VEVENT
END:VCALENDAR
