BEGIN:VCALENDAR
VERSION:2.0
PRODID:-//Unionhilfswerk //NONSGML Events //EN
CALSCALE:GREGORIAN
X-WR-CALNAME:Unionhilfswerk
BEGIN:VEVENT
CREATED:20240717T131052
UID:5739
DTSTART;VALUE=DATE:20240915T120000
DTEND;VALUE=DATE:20240915T160000
DTSTAMP:20260422T084300
LOCATION:Amerika-Gedenk-Bibliothek\, Blücherplatz 1\, 10961 Berlin
DESCRIPTION:Mitmachaktion
SUMMARY:Demokratietag – mit dem Team die freiwilligen im Unionhilfswerk
ORGANIZER:
URL;VALUE=URI:https://www.unionhilfswerk.de/engagement/termine/demokratietag-mit-dem-team-die-freiwilligen-im-unionhilfswerk/
TRANSP:OPAQUE
END:VEVENT
END:VCALENDAR
